BEGIN:VCALENDAR
VERSION:2.0
PRODID:-//Chilcompton Sports - ECPv6.15.20//NONSGML v1.0//EN
CALSCALE:GREGORIAN
METHOD:PUBLISH
X-WR-CALNAME:Chilcompton Sports
X-ORIGINAL-URL:https://www.chilcomptonsports.com
X-WR-CALDESC:Events for Chilcompton Sports
REFRESH-INTERVAL;VALUE=DURATION:PT1H
X-Robots-Tag:noindex
X-PUBLISHED-TTL:PT1H
BEGIN:VTIMEZONE
TZID:Europe/London
BEGIN:DAYLIGHT
TZOFFSETFROM:+0000
TZOFFSETTO:+0100
TZNAME:BST
DTSTART:20230326T010000
END:DAYLIGHT
BEGIN:STANDARD
TZOFFSETFROM:+0100
TZOFFSETTO:+0000
TZNAME:GMT
DTSTART:20231029T010000
END:STANDARD
BEGIN:DAYLIGHT
TZOFFSETFROM:+0000
TZOFFSETTO:+0100
TZNAME:BST
DTSTART:20240331T010000
END:DAYLIGHT
BEGIN:STANDARD
TZOFFSETFROM:+0100
TZOFFSETTO:+0000
TZNAME:GMT
DTSTART:20241027T010000
END:STANDARD
BEGIN:DAYLIGHT
TZOFFSETFROM:+0000
TZOFFSETTO:+0100
TZNAME:BST
DTSTART:20250330T010000
END:DAYLIGHT
BEGIN:STANDARD
TZOFFSETFROM:+0100
TZOFFSETTO:+0000
TZNAME:GMT
DTSTART:20251026T010000
END:STANDARD
BEGIN:DAYLIGHT
TZOFFSETFROM:+0000
TZOFFSETTO:+0100
TZNAME:BST
DTSTART:20260329T010000
END:DAYLIGHT
BEGIN:STANDARD
TZOFFSETFROM:+0100
TZOFFSETTO:+0000
TZNAME:GMT
DTSTART:20261025T010000
END:STANDARD
BEGIN:DAYLIGHT
TZOFFSETFROM:+0000
TZOFFSETTO:+0100
TZNAME:BST
DTSTART:20270328T010000
END:DAYLIGHT
BEGIN:STANDARD
TZOFFSETFROM:+0100
TZOFFSETTO:+0000
TZNAME:GMT
DTSTART:20271031T010000
END:STANDARD
END:VTIMEZONE
BEGIN:VEVENT
DTSTART;TZID=Europe/London:20260303T090000
DTEND;TZID=Europe/London:20260303T160000
DTSTAMP:20260426T022308
CREATED:20251118T164654Z
LAST-MODIFIED:20251118T164654Z
UID:5036-1772528400-1772553600@www.chilcomptonsports.com
SUMMARY:Survey Base
DESCRIPTION:First Aid & Asbestos Awareness Course
URL:https://www.chilcomptonsports.com/event/survey-base/
LOCATION:Chilcompton Sports\, Chilcompton Sports\, Chilcompton\, Radstock\, BA3 4EY\, United Kingdom
CATEGORIES:Private Event
END:VEVENT
BEGIN:VEVENT
DTSTART;TZID=Europe/London:20260118T170000
DTEND;TZID=Europe/London:20260118T210000
DTSTAMP:20260426T022308
CREATED:20251124T101354Z
LAST-MODIFIED:20251124T101354Z
UID:5041-1768755600-1768770000@www.chilcomptonsports.com
SUMMARY:Cricket Club AGM
DESCRIPTION:
URL:https://www.chilcomptonsports.com/event/cricket-club-agm-3/
LOCATION:Chilcompton Sports\, Chilcompton Sports\, Chilcompton\, Radstock\, BA3 4EY\, United Kingdom
CATEGORIES:Cricket Club
END:VEVENT
BEGIN:VEVENT
DTSTART;TZID=Europe/London:20251217T140000
DTEND;TZID=Europe/London:20251217T160000
DTSTAMP:20260426T022308
CREATED:20251118T182030Z
LAST-MODIFIED:20251118T182030Z
UID:5039-1765980000-1765987200@www.chilcomptonsports.com
SUMMARY:Wives Club
DESCRIPTION:
URL:https://www.chilcomptonsports.com/event/wives-club-26/
LOCATION:Chilcompton Sports\, Chilcompton Sports\, Chilcompton\, Radstock\, BA3 4EY\, United Kingdom
CATEGORIES:Private Event
END:VEVENT
BEGIN:VEVENT
DTSTART;TZID=Europe/London:20251216T120000
DTEND;TZID=Europe/London:20251216T170000
DTSTAMP:20260426T022308
CREATED:20250528T092312Z
LAST-MODIFIED:20250528T092312Z
UID:4437-1765886400-1765904400@www.chilcomptonsports.com
SUMMARY:Walking Football Christmas Lunch
DESCRIPTION:
URL:https://www.chilcomptonsports.com/event/walking-football-christmas-lunch/
END:VEVENT
BEGIN:VEVENT
DTSTART;TZID=Europe/London:20251206T190000
DTEND;TZID=Europe/London:20251206T230000
DTSTAMP:20260426T022308
CREATED:20251029T163114Z
LAST-MODIFIED:20251029T163114Z
UID:5023-1765047600-1765062000@www.chilcomptonsports.com
SUMMARY:Adult Quiz Night
DESCRIPTION:
URL:https://www.chilcomptonsports.com/event/adult-quiz-night/
LOCATION:Chilcompton Sports\, Chilcompton Sports\, Chilcompton\, Radstock\, BA3 4EY\, United Kingdom
CATEGORIES:Football Event
END:VEVENT
BEGIN:VEVENT
DTSTART;TZID=Europe/London:20251201T150000
DTEND;TZID=Europe/London:20251201T210000
DTSTAMP:20260426T022308
CREATED:20251027T183337Z
LAST-MODIFIED:20251027T183337Z
UID:5019-1764601200-1764622800@www.chilcomptonsports.com
SUMMARY:Somerset FA Roadshow
DESCRIPTION:
URL:https://www.chilcomptonsports.com/event/somerset-fa-roadshow/
LOCATION:Chilcompton Sports\, Chilcompton Sports\, Chilcompton\, Radstock\, BA3 4EY\, United Kingdom
CATEGORIES:Football Event,Public Event
END:VEVENT
BEGIN:VEVENT
DTSTART;TZID=Europe/London:20250713T120000
DTEND;TZID=Europe/London:20250713T160000
DTSTAMP:20260426T022308
CREATED:20250528T082948Z
LAST-MODIFIED:20250528T082948Z
UID:4435-1752408000-1752422400@www.chilcomptonsports.com
SUMMARY:Private Christening
DESCRIPTION:
URL:https://www.chilcomptonsports.com/event/private-christening/
LOCATION:Chilcompton Sports\, Chilcompton Sports\, Chilcompton\, Radstock\, BA3 4EY\, United Kingdom
CATEGORIES:Private Event
END:VEVENT
BEGIN:VEVENT
DTSTART;TZID=Europe/London:20250712T100000
DTEND;TZID=Europe/London:20250712T170000
DTSTAMP:20260426T022308
CREATED:20250307T090134Z
LAST-MODIFIED:20250404T085212Z
UID:4356-1752314400-1752339600@www.chilcomptonsports.com
SUMMARY:Youth Coaches Astro Tournament
DESCRIPTION:
URL:https://www.chilcomptonsports.com/event/youth-coaches-astro-tournament/
CATEGORIES:Football Event
END:VEVENT
BEGIN:VEVENT
DTSTART;TZID=Europe/London:20250711T190000
DTEND;TZID=Europe/London:20250711T230000
DTSTAMP:20260426T022308
CREATED:20241124T090950Z
LAST-MODIFIED:20241124T090950Z
UID:4222-1752260400-1752274800@www.chilcomptonsports.com
SUMMARY:Cricket Race Night
DESCRIPTION:
URL:https://www.chilcomptonsports.com/event/cricket-race-night/
LOCATION:Chilcompton Sports\, Chilcompton Sports\, Chilcompton\, Radstock\, BA3 4EY\, United Kingdom
CATEGORIES:Public Event
END:VEVENT
BEGIN:VEVENT
DTSTART;TZID=Europe/London:20250710T090000
DTEND;TZID=Europe/London:20250710T120000
DTSTAMP:20260426T022308
CREATED:20250609T190855Z
LAST-MODIFIED:20250609T190855Z
UID:4462-1752138000-1752148800@www.chilcomptonsports.com
SUMMARY:School Sports Day
DESCRIPTION:
URL:https://www.chilcomptonsports.com/event/school-sports-day/
END:VEVENT
BEGIN:VEVENT
DTSTART;TZID=Europe/London:20250705T080000
DTEND;TZID=Europe/London:20250705T170000
DTSTAMP:20260426T022308
CREATED:20250404T085354Z
LAST-MODIFIED:20250404T085354Z
UID:4412-1751702400-1751734800@www.chilcomptonsports.com
SUMMARY:Art Club - Open Day Exhibition
DESCRIPTION:Open to Public 10am to 4pm
URL:https://www.chilcomptonsports.com/event/art-club-open-day-exhibition/
LOCATION:Chilcompton Sports\, Chilcompton Sports\, Chilcompton\, Radstock\, BA3 4EY\, United Kingdom
CATEGORIES:Public Event
END:VEVENT
BEGIN:VEVENT
DTSTART;TZID=Europe/London:20250702T133000
DTEND;TZID=Europe/London:20250702T160000
DTSTAMP:20260426T022308
CREATED:20250614T103554Z
LAST-MODIFIED:20250614T124004Z
UID:4464-1751463000-1751472000@www.chilcomptonsports.com
SUMMARY:Wives' Club
DESCRIPTION:
URL:https://www.chilcomptonsports.com/event/wives-club-5/
END:VEVENT
BEGIN:VEVENT
DTSTART;TZID=Europe/London:20250615T140000
DTEND;TZID=Europe/London:20250615T180000
DTSTAMP:20260426T022308
CREATED:20250307T174249Z
LAST-MODIFIED:20250307T174249Z
UID:4359-1749996000-1750010400@www.chilcomptonsports.com
SUMMARY:Private Event
DESCRIPTION:
URL:https://www.chilcomptonsports.com/event/private-event/
LOCATION:Chilcompton Sports\, Chilcompton Sports\, Chilcompton\, Radstock\, BA3 4EY\, United Kingdom
CATEGORIES:Private Event
END:VEVENT
BEGIN:VEVENT
DTSTART;TZID=Europe/London:20250606T180000
DTEND;TZID=Europe/London:20250606T230000
DTSTAMP:20260426T022308
CREATED:20250404T085601Z
LAST-MODIFIED:20250404T085601Z
UID:4414-1749232800-1749250800@www.chilcomptonsports.com
SUMMARY:SVSJ - Auction of Promises
DESCRIPTION:
URL:https://www.chilcomptonsports.com/event/svsj-auction-of-promises/
LOCATION:Chilcompton Sports\, Chilcompton Sports\, Chilcompton\, Radstock\, BA3 4EY\, United Kingdom
CATEGORIES:Public Event
END:VEVENT
BEGIN:VEVENT
DTSTART;TZID=Europe/London:20250510T130000
DTEND;TZID=Europe/London:20250510T230000
DTSTAMP:20260426T022308
CREATED:20250404T091057Z
LAST-MODIFIED:20250404T091057Z
UID:4418-1746882000-1746918000@www.chilcomptonsports.com
SUMMARY:Football Presentation
DESCRIPTION:
URL:https://www.chilcomptonsports.com/event/football-presentation/
LOCATION:Chilcompton Sports\, Chilcompton Sports\, Chilcompton\, Radstock\, BA3 4EY\, United Kingdom
CATEGORIES:Football Event
END:VEVENT
BEGIN:VEVENT
DTSTART;TZID=Europe/London:20250509T173000
DTEND;TZID=Europe/London:20250509T230000
DTSTAMP:20260426T022308
CREATED:20250404T091015Z
LAST-MODIFIED:20250404T091015Z
UID:4416-1746811800-1746831600@www.chilcomptonsports.com
SUMMARY:Youth Football Presentation
DESCRIPTION:
URL:https://www.chilcomptonsports.com/event/youth-football-presentation-2/
LOCATION:Chilcompton Sports\, Chilcompton Sports\, Chilcompton\, Radstock\, BA3 4EY\, United Kingdom
CATEGORIES:Football Event
END:VEVENT
BEGIN:VEVENT
DTSTART;TZID=Europe/London:20250425T190000
DTEND;TZID=Europe/London:20250425T230000
DTSTAMP:20260426T022308
CREATED:20250208T113635Z
LAST-MODIFIED:20250208T113635Z
UID:4343-1745607600-1745622000@www.chilcomptonsports.com
SUMMARY:U10/11 Quiz
DESCRIPTION:
URL:https://www.chilcomptonsports.com/event/u10-11-quiz/
LOCATION:Chilcompton Sports\, Chilcompton Sports\, Chilcompton\, Radstock\, BA3 4EY\, United Kingdom
CATEGORIES:Public Event
END:VEVENT
BEGIN:VEVENT
DTSTART;TZID=Europe/London:20250422T120000
DTEND;TZID=Europe/London:20250422T143000
DTSTAMP:20260426T022308
CREATED:20250321T081253Z
LAST-MODIFIED:20250321T081253Z
UID:4367-1745323200-1745332200@www.chilcomptonsports.com
SUMMARY:Walking Football Quiz
DESCRIPTION:
URL:https://www.chilcomptonsports.com/event/walking-football-quiz/
LOCATION:Chilcompton Sports\, Chilcompton Sports\, Chilcompton\, Radstock\, BA3 4EY\, United Kingdom
CATEGORIES:Football Event
END:VEVENT
BEGIN:VEVENT
DTSTART;TZID=Europe/London:20250401T080000
DTEND;TZID=Europe/London:20250401T130000
DTSTAMP:20260426T022308
CREATED:20250321T080823Z
LAST-MODIFIED:20250321T080823Z
UID:4365-1743494400-1743512400@www.chilcomptonsports.com
SUMMARY:OCU
DESCRIPTION:
URL:https://www.chilcomptonsports.com/event/ocu/
CATEGORIES:Private Event
END:VEVENT
BEGIN:VEVENT
DTSTART;TZID=Europe/London:20250321T190000
DTEND;TZID=Europe/London:20250321T230000
DTSTAMP:20260426T022308
CREATED:20250208T113718Z
LAST-MODIFIED:20250208T113718Z
UID:4345-1742583600-1742598000@www.chilcomptonsports.com
SUMMARY:Easter Bingo
DESCRIPTION:
URL:https://www.chilcomptonsports.com/event/easter-bingo/
LOCATION:Chilcompton Sports\, Chilcompton Sports\, Chilcompton\, Radstock\, BA3 4EY\, United Kingdom
END:VEVENT
BEGIN:VEVENT
DTSTART;TZID=Europe/London:20250318T093000
DTEND;TZID=Europe/London:20250318T150000
DTSTAMP:20260426T022308
CREATED:20240703T102236Z
LAST-MODIFIED:20240703T102236Z
UID:3826-1742290200-1742310000@www.chilcomptonsports.com
SUMMARY:Refreshing Carers Day
DESCRIPTION:
URL:https://www.chilcomptonsports.com/event/refreshing-carers-day/
END:VEVENT
BEGIN:VEVENT
DTSTART;VALUE=DATE:20250311
DTEND;VALUE=DATE:20250312
DTSTAMP:20260426T022308
CREATED:20241217T101611Z
LAST-MODIFIED:20241217T101611Z
UID:4289-1741651200-1741737599@www.chilcomptonsports.com
SUMMARY:Surveybase Training
DESCRIPTION:
URL:https://www.chilcomptonsports.com/event/surveybase-training/
LOCATION:Chilcompton Sports\, Chilcompton Sports\, Chilcompton\, Radstock\, BA3 4EY\, United Kingdom
CATEGORIES:Private Event
END:VEVENT
BEGIN:VEVENT
DTSTART;TZID=Europe/London:20250202T190000
DTEND;TZID=Europe/London:20250202T210000
DTSTAMP:20260426T022308
CREATED:20241124T090808Z
LAST-MODIFIED:20241124T090808Z
UID:4220-1738522800-1738530000@www.chilcomptonsports.com
SUMMARY:Cricket AGM
DESCRIPTION:
URL:https://www.chilcomptonsports.com/event/cricket-agm/
LOCATION:Chilcompton Sports\, Chilcompton Sports\, Chilcompton\, Radstock\, BA3 4EY\, United Kingdom
CATEGORIES:Cricket Club
END:VEVENT
BEGIN:VEVENT
DTSTART;TZID=Europe/London:20250124T190000
DTEND;TZID=Europe/London:20250124T230000
DTSTAMP:20260426T022308
CREATED:20241124T091136Z
LAST-MODIFIED:20241124T091136Z
UID:4224-1737745200-1737759600@www.chilcomptonsports.com
SUMMARY:Private Party
DESCRIPTION:
URL:https://www.chilcomptonsports.com/event/private-party-2/
LOCATION:Chilcompton Sports\, Chilcompton Sports\, Chilcompton\, Radstock\, BA3 4EY\, United Kingdom
CATEGORIES:Private Event
END:VEVENT
BEGIN:VEVENT
DTSTART;TZID=Europe/London:20241210T090000
DTEND;TZID=Europe/London:20241210T163000
DTSTAMP:20260426T022308
CREATED:20240919T090113Z
LAST-MODIFIED:20240919T090113Z
UID:4148-1733821200-1733848200@www.chilcomptonsports.com
SUMMARY:First Aid Course
DESCRIPTION:
URL:https://www.chilcomptonsports.com/event/first-aid-course-3/
LOCATION:Chilcompton Sports\, Chilcompton Sports\, Chilcompton\, Radstock\, BA3 4EY\, United Kingdom
CATEGORIES:Private Event
END:VEVENT
BEGIN:VEVENT
DTSTART;TZID=Europe/London:20241203T090000
DTEND;TZID=Europe/London:20241203T163000
DTSTAMP:20260426T022308
CREATED:20240919T090043Z
LAST-MODIFIED:20240919T090043Z
UID:4146-1733216400-1733243400@www.chilcomptonsports.com
SUMMARY:First Aid Course
DESCRIPTION:
URL:https://www.chilcomptonsports.com/event/first-aid-course-2/
LOCATION:Chilcompton Sports\, Chilcompton Sports\, Chilcompton\, Radstock\, BA3 4EY\, United Kingdom
CATEGORIES:Private Event
END:VEVENT
BEGIN:VEVENT
DTSTART;TZID=Europe/London:20241119T090000
DTEND;TZID=Europe/London:20241119T163000
DTSTAMP:20260426T022308
CREATED:20240919T085945Z
LAST-MODIFIED:20240919T085945Z
UID:4144-1732006800-1732033800@www.chilcomptonsports.com
SUMMARY:First Aid Course
DESCRIPTION:
URL:https://www.chilcomptonsports.com/event/first-aid-course/
LOCATION:Chilcompton Sports\, Chilcompton Sports\, Chilcompton\, Radstock\, BA3 4EY\, United Kingdom
CATEGORIES:Private Event
END:VEVENT
BEGIN:VEVENT
DTSTART;TZID=Europe/London:20241108T183000
DTEND;TZID=Europe/London:20241108T230000
DTSTAMP:20260426T022308
CREATED:20241004T173046Z
LAST-MODIFIED:20241029T160141Z
UID:4170-1731090600-1731106800@www.chilcomptonsports.com
SUMMARY:Bingo
DESCRIPTION:Eyes down at 7:45pm
URL:https://www.chilcomptonsports.com/event/bingo-2/
LOCATION:Chilcompton Sports\, Chilcompton Sports\, Chilcompton\, Radstock\, BA3 4EY\, United Kingdom
CATEGORIES:Public Event
END:VEVENT
BEGIN:VEVENT
DTSTART;TZID=Europe/London:20241008T080000
DTEND;TZID=Europe/London:20241008T160000
DTSTAMP:20260426T022308
CREATED:20240724T090550Z
LAST-MODIFIED:20240802T083533Z
UID:4012-1728374400-1728403200@www.chilcomptonsports.com
SUMMARY:Surveyors Annual Conference & Technical Team Meeting
DESCRIPTION:Organised by Surveybase
URL:https://www.chilcomptonsports.com/event/surveyors-annual-conference-technical-team-meeting-tbc/
LOCATION:Chilcompton Sports\, Chilcompton Sports\, Chilcompton\, Radstock\, BA3 4EY\, United Kingdom
END:VEVENT
BEGIN:VEVENT
DTSTART;TZID=Europe/London:20240924T100000
DTEND;TZID=Europe/London:20240924T140000
DTSTAMP:20260426T022308
CREATED:20240911T113305Z
LAST-MODIFIED:20240911T113305Z
UID:4138-1727172000-1727186400@www.chilcomptonsports.com
SUMMARY:EDF Day
DESCRIPTION:
URL:https://www.chilcomptonsports.com/event/edf-day/
LOCATION:Chilcompton Sports\, Chilcompton Sports\, Chilcompton\, Radstock\, BA3 4EY\, United Kingdom
CATEGORIES:Private Event
END:VEVENT
END:VCALENDAR