BEGIN:VCALENDAR
VERSION:2.0
PRODID:-//Chilcompton Sports - ECPv6.15.20//NONSGML v1.0//EN
CALSCALE:GREGORIAN
METHOD:PUBLISH
X-ORIGINAL-URL:https://www.chilcomptonsports.com
X-WR-CALDESC:Events for Chilcompton Sports
REFRESH-INTERVAL;VALUE=DURATION:PT1H
X-Robots-Tag:noindex
X-PUBLISHED-TTL:PT1H
BEGIN:VTIMEZONE
TZID:Europe/London
BEGIN:DAYLIGHT
TZOFFSETFROM:+0000
TZOFFSETTO:+0100
TZNAME:BST
DTSTART:20220327T010000
END:DAYLIGHT
BEGIN:STANDARD
TZOFFSETFROM:+0100
TZOFFSETTO:+0000
TZNAME:GMT
DTSTART:20221030T010000
END:STANDARD
BEGIN:DAYLIGHT
TZOFFSETFROM:+0000
TZOFFSETTO:+0100
TZNAME:BST
DTSTART:20230326T010000
END:DAYLIGHT
BEGIN:STANDARD
TZOFFSETFROM:+0100
TZOFFSETTO:+0000
TZNAME:GMT
DTSTART:20231029T010000
END:STANDARD
BEGIN:DAYLIGHT
TZOFFSETFROM:+0000
TZOFFSETTO:+0100
TZNAME:BST
DTSTART:20240331T010000
END:DAYLIGHT
BEGIN:STANDARD
TZOFFSETFROM:+0100
TZOFFSETTO:+0000
TZNAME:GMT
DTSTART:20241027T010000
END:STANDARD
BEGIN:DAYLIGHT
TZOFFSETFROM:+0000
TZOFFSETTO:+0100
TZNAME:BST
DTSTART:20250330T010000
END:DAYLIGHT
BEGIN:STANDARD
TZOFFSETFROM:+0100
TZOFFSETTO:+0000
TZNAME:GMT
DTSTART:20251026T010000
END:STANDARD
BEGIN:DAYLIGHT
TZOFFSETFROM:+0000
TZOFFSETTO:+0100
TZNAME:BST
DTSTART:20260329T010000
END:DAYLIGHT
BEGIN:STANDARD
TZOFFSETFROM:+0100
TZOFFSETTO:+0000
TZNAME:GMT
DTSTART:20261025T010000
END:STANDARD
END:VTIMEZONE
BEGIN:VEVENT
DTSTART;TZID=Europe/London:20250318T093000
DTEND;TZID=Europe/London:20250318T150000
DTSTAMP:20260425T224514
CREATED:20240703T102236Z
LAST-MODIFIED:20240703T102236Z
UID:3826-1742290200-1742310000@www.chilcomptonsports.com
SUMMARY:Refreshing Carers Day
DESCRIPTION:
URL:https://www.chilcomptonsports.com/event/refreshing-carers-day/
LOCATION:Radstock
END:VEVENT
BEGIN:VEVENT
DTSTART;VALUE=DATE:20250311
DTEND;VALUE=DATE:20250312
DTSTAMP:20260425T224514
CREATED:20241217T101611Z
LAST-MODIFIED:20241217T101611Z
UID:4289-1741651200-1741737599@www.chilcomptonsports.com
SUMMARY:Surveybase Training
DESCRIPTION:
URL:https://www.chilcomptonsports.com/event/surveybase-training/
LOCATION:Chilcompton Sports\, Chilcompton Sports\, Chilcompton\, Radstock\, BA3 4EY\, United Kingdom
CATEGORIES:Private Event
END:VEVENT
BEGIN:VEVENT
DTSTART;TZID=Europe/London:20250202T190000
DTEND;TZID=Europe/London:20250202T210000
DTSTAMP:20260425T224514
CREATED:20241124T090808Z
LAST-MODIFIED:20241124T090808Z
UID:4220-1738522800-1738530000@www.chilcomptonsports.com
SUMMARY:Cricket AGM
DESCRIPTION:
URL:https://www.chilcomptonsports.com/event/cricket-agm/
LOCATION:Chilcompton Sports\, Chilcompton Sports\, Chilcompton\, Radstock\, BA3 4EY\, United Kingdom
CATEGORIES:Cricket Club
END:VEVENT
BEGIN:VEVENT
DTSTART;TZID=Europe/London:20250124T190000
DTEND;TZID=Europe/London:20250124T230000
DTSTAMP:20260425T224514
CREATED:20241124T091136Z
LAST-MODIFIED:20241124T091136Z
UID:4224-1737745200-1737759600@www.chilcomptonsports.com
SUMMARY:Private Party
DESCRIPTION:
URL:https://www.chilcomptonsports.com/event/private-party-2/
LOCATION:Chilcompton Sports\, Chilcompton Sports\, Chilcompton\, Radstock\, BA3 4EY\, United Kingdom
CATEGORIES:Private Event
END:VEVENT
BEGIN:VEVENT
DTSTART;TZID=Europe/London:20241210T090000
DTEND;TZID=Europe/London:20241210T163000
DTSTAMP:20260425T224514
CREATED:20240919T090113Z
LAST-MODIFIED:20240919T090113Z
UID:4148-1733821200-1733848200@www.chilcomptonsports.com
SUMMARY:First Aid Course
DESCRIPTION:
URL:https://www.chilcomptonsports.com/event/first-aid-course-3/
LOCATION:Chilcompton Sports\, Chilcompton Sports\, Chilcompton\, Radstock\, BA3 4EY\, United Kingdom
CATEGORIES:Private Event
END:VEVENT
BEGIN:VEVENT
DTSTART;TZID=Europe/London:20241203T090000
DTEND;TZID=Europe/London:20241203T163000
DTSTAMP:20260425T224514
CREATED:20240919T090043Z
LAST-MODIFIED:20240919T090043Z
UID:4146-1733216400-1733243400@www.chilcomptonsports.com
SUMMARY:First Aid Course
DESCRIPTION:
URL:https://www.chilcomptonsports.com/event/first-aid-course-2/
LOCATION:Chilcompton Sports\, Chilcompton Sports\, Chilcompton\, Radstock\, BA3 4EY\, United Kingdom
CATEGORIES:Private Event
END:VEVENT
BEGIN:VEVENT
DTSTART;TZID=Europe/London:20241119T090000
DTEND;TZID=Europe/London:20241119T163000
DTSTAMP:20260425T224514
CREATED:20240919T085945Z
LAST-MODIFIED:20240919T085945Z
UID:4144-1732006800-1732033800@www.chilcomptonsports.com
SUMMARY:First Aid Course
DESCRIPTION:
URL:https://www.chilcomptonsports.com/event/first-aid-course/
LOCATION:Chilcompton Sports\, Chilcompton Sports\, Chilcompton\, Radstock\, BA3 4EY\, United Kingdom
CATEGORIES:Private Event
END:VEVENT
BEGIN:VEVENT
DTSTART;TZID=Europe/London:20241108T183000
DTEND;TZID=Europe/London:20241108T230000
DTSTAMP:20260425T224514
CREATED:20241004T173046Z
LAST-MODIFIED:20241029T160141Z
UID:4170-1731090600-1731106800@www.chilcomptonsports.com
SUMMARY:Bingo
DESCRIPTION:Eyes down at 7:45pm
URL:https://www.chilcomptonsports.com/event/bingo-2/
LOCATION:Chilcompton Sports\, Chilcompton Sports\, Chilcompton\, Radstock\, BA3 4EY\, United Kingdom
CATEGORIES:Public Event
END:VEVENT
BEGIN:VEVENT
DTSTART;TZID=Europe/London:20241008T080000
DTEND;TZID=Europe/London:20241008T160000
DTSTAMP:20260425T224514
CREATED:20240724T090550Z
LAST-MODIFIED:20240802T083533Z
UID:4012-1728374400-1728403200@www.chilcomptonsports.com
SUMMARY:Surveyors Annual Conference & Technical Team Meeting
DESCRIPTION:Organised by Surveybase
URL:https://www.chilcomptonsports.com/event/surveyors-annual-conference-technical-team-meeting-tbc/
LOCATION:Chilcompton Sports\, Chilcompton Sports\, Chilcompton\, Radstock\, BA3 4EY\, United Kingdom
END:VEVENT
BEGIN:VEVENT
DTSTART;TZID=Europe/London:20240924T100000
DTEND;TZID=Europe/London:20240924T140000
DTSTAMP:20260425T224514
CREATED:20240911T113305Z
LAST-MODIFIED:20240911T113305Z
UID:4138-1727172000-1727186400@www.chilcomptonsports.com
SUMMARY:EDF Day
DESCRIPTION:
URL:https://www.chilcomptonsports.com/event/edf-day/
LOCATION:Chilcompton Sports\, Chilcompton Sports\, Chilcompton\, Radstock\, BA3 4EY\, United Kingdom
CATEGORIES:Private Event
END:VEVENT
BEGIN:VEVENT
DTSTART;TZID=Europe/London:20240913T193000
DTEND;TZID=Europe/London:20240913T230000
DTSTAMP:20260425T224514
CREATED:20240824T082006Z
LAST-MODIFIED:20240824T082006Z
UID:4025-1726255800-1726268400@www.chilcomptonsports.com
SUMMARY:Cricket Presentation
DESCRIPTION:
URL:https://www.chilcomptonsports.com/event/cricket-presentation/
LOCATION:Radstock
CATEGORIES:Cricket Club
END:VEVENT
BEGIN:VEVENT
DTSTART;TZID=Europe/London:20240809T080000
DTEND;TZID=Europe/London:20240809T170000
DTSTAMP:20260425T224514
CREATED:20240118T094515Z
LAST-MODIFIED:20240118T094515Z
UID:3152-1723190400-1723222800@www.chilcomptonsports.com
SUMMARY:Cricket Club Race Night
DESCRIPTION:
URL:https://www.chilcomptonsports.com/event/cricket-club-race-night-2/
LOCATION:Chilcompton Sports\, Chilcompton Sports\, Chilcompton\, Radstock\, BA3 4EY\, United Kingdom
CATEGORIES:Cricket Club
END:VEVENT
BEGIN:VEVENT
DTSTART;TZID=Europe/London:20240730T073000
DTEND;TZID=Europe/London:20240730T170000
DTSTAMP:20260425T224514
CREATED:20240709T073908Z
LAST-MODIFIED:20240709T073908Z
UID:3930-1722324600-1722358800@www.chilcomptonsports.com
SUMMARY:OCU Group
DESCRIPTION:
URL:https://www.chilcomptonsports.com/event/ocu-group/
LOCATION:Radstock
CATEGORIES:Private Event
END:VEVENT
BEGIN:VEVENT
DTSTART;TZID=Europe/London:20240713T100000
DTEND;TZID=Europe/London:20240713T160000
DTSTAMP:20260425T224514
CREATED:20240403T080444Z
LAST-MODIFIED:20240403T080444Z
UID:3626-1720864800-1720886400@www.chilcomptonsports.com
SUMMARY:Art Exhibition
DESCRIPTION:
URL:https://www.chilcomptonsports.com/event/art-exhibition/
LOCATION:Chilcompton Sports\, Chilcompton Sports\, Chilcompton\, Radstock\, BA3 4EY\, United Kingdom
CATEGORIES:Public Event
END:VEVENT
BEGIN:VEVENT
DTSTART;VALUE=DATE:20240614
DTEND;VALUE=DATE:20240715
DTSTAMP:20260425T224514
CREATED:20240122T182327Z
LAST-MODIFIED:20240122T182327Z
UID:3417-1718323200-1721001599@www.chilcomptonsports.com
SUMMARY:Football Euros
DESCRIPTION:June 16th – England v Serbia – ko 8pm \n20th June – England v Denmark – ko 5pm \n25th June – England – ko 8pm
URL:https://www.chilcomptonsports.com/event/football-euros/
LOCATION:Chilcompton Sports\, Chilcompton Sports\, Chilcompton\, Radstock\, BA3 4EY\, United Kingdom
CATEGORIES:Public Event
END:VEVENT
BEGIN:VEVENT
DTSTART;TZID=Europe/London:20240612T180000
DTEND;TZID=Europe/London:20240612T210000
DTSTAMP:20260425T224514
CREATED:20240118T095433Z
LAST-MODIFIED:20240118T095434Z
UID:3159-1718215200-1718226000@www.chilcomptonsports.com
SUMMARY:Football Youth Registration Evening
DESCRIPTION:
URL:https://www.chilcomptonsports.com/event/football-youth-registration-evening/
LOCATION:Chilcompton Sports\, Chilcompton Sports\, Chilcompton\, Radstock\, BA3 4EY\, United Kingdom
CATEGORIES:Football Event
END:VEVENT
BEGIN:VEVENT
DTSTART;TZID=Europe/London:20240608T120000
DTEND;TZID=Europe/London:20240609T230000
DTSTAMP:20260425T224514
CREATED:20240118T094218Z
LAST-MODIFIED:20240118T094218Z
UID:3146-1717848000-1717974000@www.chilcomptonsports.com
SUMMARY:Beer Festival
DESCRIPTION:
URL:https://www.chilcomptonsports.com/event/beer-festival/
LOCATION:Chilcompton Sports\, Chilcompton Sports\, Chilcompton\, Radstock\, BA3 4EY\, United Kingdom
CATEGORIES:Public Event
END:VEVENT
BEGIN:VEVENT
DTSTART;TZID=Europe/London:20240511T180000
DTEND;TZID=Europe/London:20240511T230000
DTSTAMP:20260425T224514
CREATED:20240118T095335Z
LAST-MODIFIED:20240118T101013Z
UID:3157-1715450400-1715468400@www.chilcomptonsports.com
SUMMARY:Football Presentation evening for over U12s
DESCRIPTION:
URL:https://www.chilcomptonsports.com/event/football-presentation-evening-for-over-u12s/
LOCATION:Chilcompton Sports\, Chilcompton Sports\, Chilcompton\, Radstock\, BA3 4EY\, United Kingdom
CATEGORIES:Football Event
END:VEVENT
BEGIN:VEVENT
DTSTART;TZID=Europe/London:20240510T180000
DTEND;TZID=Europe/London:20240510T230000
DTSTAMP:20260425T224514
CREATED:20240118T095244Z
LAST-MODIFIED:20240118T101055Z
UID:3155-1715364000-1715382000@www.chilcomptonsports.com
SUMMARY:Football Presentation evening for up to U11s
DESCRIPTION:
URL:https://www.chilcomptonsports.com/event/football-presentation-evening-for-up-to-u11s/
LOCATION:Chilcompton Sports\, Chilcompton Sports\, Chilcompton\, Radstock\, BA3 4EY\, United Kingdom
CATEGORIES:Football Event
END:VEVENT
BEGIN:VEVENT
DTSTART;TZID=Europe/London:20240412T190000
DTEND;TZID=Europe/London:20240412T220000
DTSTAMP:20260425T224514
CREATED:20240117T173620Z
LAST-MODIFIED:20240118T095124Z
UID:3104-1712948400-1712959200@www.chilcomptonsports.com
SUMMARY:Easter Bingo
DESCRIPTION:
URL:https://www.chilcomptonsports.com/event/bingo/
LOCATION:Chilcompton Sports\, Chilcompton Sports\, Chilcompton\, Radstock\, BA3 4EY\, United Kingdom
CATEGORIES:Football Event
END:VEVENT
BEGIN:VEVENT
DTSTART;TZID=Europe/London:20240408T190000
DTEND;TZID=Europe/London:20240408T210000
DTSTAMP:20260425T224514
CREATED:20240228T083443Z
LAST-MODIFIED:20240228T083443Z
UID:3598-1712602800-1712610000@www.chilcomptonsports.com
SUMMARY:Cricket Umpires Course
DESCRIPTION:
URL:https://www.chilcomptonsports.com/event/cricket-umpires-course/
LOCATION:Chilcompton Sports\, Chilcompton Sports\, Chilcompton\, Radstock\, BA3 4EY\, United Kingdom
CATEGORIES:Cricket Club
END:VEVENT
BEGIN:VEVENT
DTSTART;TZID=Europe/London:20240305T110000
DTEND;TZID=Europe/London:20240305T150000
DTSTAMP:20260425T224514
CREATED:20240119T155846Z
LAST-MODIFIED:20240119T155846Z
UID:3279-1709636400-1709650800@www.chilcomptonsports.com
SUMMARY:Local Help & Well Being Day
DESCRIPTION:Help On Hand \nFrom Organisations including   ………….. \nThe Village Agent\,  Bath Mind\, The Alzheimers  Society \nRICE\,(RUH) \, Care Co-ordinators (St. Chads) Companions who care and more \nAND .. Try a free Complimentary Health Taster  \nRefreshments\, Free Admission . Fully Accessible Venue. \nFor further information email: csarah150@yahoo.co.uk/07535696264 \n  \nFor further information \ncsarah150@yahoo.co.uk or call : \n 
URL:https://www.chilcomptonsports.com/event/local-help-well-being-day/
LOCATION:Chilcompton Sports\, Chilcompton Sports\, Chilcompton\, Radstock\, BA3 4EY\, United Kingdom
CATEGORIES:Public Event
END:VEVENT
BEGIN:VEVENT
DTSTART;TZID=Europe/London:20240216T183000
DTEND;TZID=Europe/London:20240216T230000
DTSTAMP:20260425T224514
CREATED:20240117T141446Z
LAST-MODIFIED:20240117T143050Z
UID:3065-1708108200-1708124400@www.chilcomptonsports.com
SUMMARY:Valentine's Quiz Night
DESCRIPTION:Valentine’s Quiz Night\nOrganised by the U9/U10 youth football coaches\, this is a very popular event and well supported by youth football members.  \n\nMax team 6 adults £5 per head \nAccompanied u12s FREE\nInterval food supplied\nRaffle \nDoors open 630pm – Quiz starts 7:30pm\n\nTo book a table please contact Ian Hawkins 07790 437953 or Adam Gould 07929 003067
URL:https://www.chilcomptonsports.com/event/valentines-quiz-night/
LOCATION:Chilcompton Sports\, Chilcompton Sports\, Chilcompton\, Radstock\, BA3 4EY\, United Kingdom
CATEGORIES:Football Event
END:VEVENT
BEGIN:VEVENT
DTSTART;TZID=Europe/London:20240209T183000
DTEND;TZID=Europe/London:20240209T230000
DTSTAMP:20260425T224514
CREATED:20240117T125818Z
LAST-MODIFIED:20240117T125818Z
UID:3062-1707503400-1707519600@www.chilcomptonsports.com
SUMMARY:Valentine's Bingo Night
DESCRIPTION:
URL:https://www.chilcomptonsports.com/event/valentines-bingo-night/
LOCATION:Chilcompton Sports\, Chilcompton Sports\, Chilcompton\, Radstock\, BA3 4EY\, United Kingdom
CATEGORIES:Club Event
END:VEVENT
BEGIN:VEVENT
DTSTART;TZID=Europe/London:20240204T190000
DTEND;TZID=Europe/London:20240204T190000
DTSTAMP:20260425T224514
CREATED:20240118T094411Z
LAST-MODIFIED:20240118T094411Z
UID:3149-1707073200-1707073200@www.chilcomptonsports.com
SUMMARY:Cricket Club AGM
DESCRIPTION:
URL:https://www.chilcomptonsports.com/event/cricket-club-agm-2/
LOCATION:Chilcompton Sports\, Chilcompton Sports\, Chilcompton\, Radstock\, BA3 4EY\, United Kingdom
CATEGORIES:Cricket Club
END:VEVENT
BEGIN:VEVENT
DTSTART;VALUE=DATE:20240202
DTEND;VALUE=DATE:20240317
DTSTAMP:20260425T224514
CREATED:20240122T182739Z
LAST-MODIFIED:20240122T182739Z
UID:3419-1706832000-1710633599@www.chilcomptonsports.com
SUMMARY:Six Nations Rugby
DESCRIPTION:3rd February – England v Italy – ko 2:15pm \n10th February – England v Wales – ko 4:45pm \n24th February – England v Scotland – ko 4:45pm \n9th March – England v Ireland – ko 4:45pm \n16th March – England v France – ko 8:00pm
URL:https://www.chilcomptonsports.com/event/six-nations-rugby/
LOCATION:Chilcompton Sports\, Chilcompton Sports\, Chilcompton\, Radstock\, BA3 4EY\, United Kingdom
CATEGORIES:Public Event
END:VEVENT
BEGIN:VEVENT
DTSTART;TZID=Europe/London:20230616T080000
DTEND;TZID=Europe/London:20230616T170000
DTSTAMP:20260425T224514
CREATED:20230217T164842Z
LAST-MODIFIED:20230217T164842Z
UID:2641-1686902400-1686934800@www.chilcomptonsports.com
SUMMARY:Horse Racing Fundraising Night
DESCRIPTION:
URL:https://www.chilcomptonsports.com/event/horse-racing-fundraising-night/
LOCATION:Chilcompton Sports\, Chilcompton Sports\, Chilcompton\, Radstock\, BA3 4EY\, United Kingdom
CATEGORIES:Cricket Club
END:VEVENT
BEGIN:VEVENT
DTSTART;VALUE=DATE:20230506
DTEND;VALUE=DATE:20230507
DTSTAMP:20260425T224514
CREATED:20230217T164947Z
LAST-MODIFIED:20230217T164947Z
UID:2639-1683331200-1683417599@www.chilcomptonsports.com
SUMMARY:Senior League Season Starts
DESCRIPTION:
URL:https://www.chilcomptonsports.com/event/senior-league-season-starts/
LOCATION:Chilcompton Sports\, Chilcompton Sports\, Chilcompton\, Radstock\, BA3 4EY\, United Kingdom
CATEGORIES:Cricket Club
END:VEVENT
BEGIN:VEVENT
DTSTART;TZID=Europe/London:20230505T180000
DTEND;TZID=Europe/London:20230505T230000
DTSTAMP:20260425T224514
CREATED:20230217T164956Z
LAST-MODIFIED:20230217T164956Z
UID:2637-1683309600-1683327600@www.chilcomptonsports.com
SUMMARY:Youth Football Presentation
DESCRIPTION:
URL:https://www.chilcomptonsports.com/event/youth-football-presentation/
LOCATION:Chilcompton Sports\, Chilcompton Sports\, Chilcompton\, Radstock\, BA3 4EY\, United Kingdom
CATEGORIES:Football Event
END:VEVENT
BEGIN:VEVENT
DTSTART;TZID=Europe/London:20230412T181500
DTEND;TZID=Europe/London:20230412T203000
DTSTAMP:20260425T224514
CREATED:20230217T164855Z
LAST-MODIFIED:20230217T164855Z
UID:2635-1681323300-1681331400@www.chilcomptonsports.com
SUMMARY:Junior Training Starts
DESCRIPTION:
URL:https://www.chilcomptonsports.com/event/junior-training-starts/
LOCATION:Chilcompton Sports\, Chilcompton Sports\, Chilcompton\, Radstock\, BA3 4EY\, United Kingdom
CATEGORIES:Cricket Club
END:VEVENT
END:VCALENDAR