BEGIN:VCALENDAR
VERSION:2.0
PRODID:-//Chilcompton Sports - ECPv6.15.20//NONSGML v1.0//EN
CALSCALE:GREGORIAN
METHOD:PUBLISH
X-ORIGINAL-URL:https://www.chilcomptonsports.com
X-WR-CALDESC:Events for Chilcompton Sports
REFRESH-INTERVAL;VALUE=DURATION:PT1H
X-Robots-Tag:noindex
X-PUBLISHED-TTL:PT1H
BEGIN:VTIMEZONE
TZID:Europe/London
BEGIN:DAYLIGHT
TZOFFSETFROM:+0000
TZOFFSETTO:+0100
TZNAME:BST
DTSTART:20210328T010000
END:DAYLIGHT
BEGIN:STANDARD
TZOFFSETFROM:+0100
TZOFFSETTO:+0000
TZNAME:GMT
DTSTART:20211031T010000
END:STANDARD
BEGIN:DAYLIGHT
TZOFFSETFROM:+0000
TZOFFSETTO:+0100
TZNAME:BST
DTSTART:20220327T010000
END:DAYLIGHT
BEGIN:STANDARD
TZOFFSETFROM:+0100
TZOFFSETTO:+0000
TZNAME:GMT
DTSTART:20221030T010000
END:STANDARD
BEGIN:DAYLIGHT
TZOFFSETFROM:+0000
TZOFFSETTO:+0100
TZNAME:BST
DTSTART:20230326T010000
END:DAYLIGHT
BEGIN:STANDARD
TZOFFSETFROM:+0100
TZOFFSETTO:+0000
TZNAME:GMT
DTSTART:20231029T010000
END:STANDARD
BEGIN:DAYLIGHT
TZOFFSETFROM:+0000
TZOFFSETTO:+0100
TZNAME:BST
DTSTART:20240331T010000
END:DAYLIGHT
BEGIN:STANDARD
TZOFFSETFROM:+0100
TZOFFSETTO:+0000
TZNAME:GMT
DTSTART:20241027T010000
END:STANDARD
BEGIN:DAYLIGHT
TZOFFSETFROM:+0000
TZOFFSETTO:+0100
TZNAME:BST
DTSTART:20250330T010000
END:DAYLIGHT
BEGIN:STANDARD
TZOFFSETFROM:+0100
TZOFFSETTO:+0000
TZNAME:GMT
DTSTART:20251026T010000
END:STANDARD
END:VTIMEZONE
BEGIN:VEVENT
DTSTART;TZID=Europe/London:20240408T190000
DTEND;TZID=Europe/London:20240408T210000
DTSTAMP:20260426T021951
CREATED:20240228T083443Z
LAST-MODIFIED:20240228T083443Z
UID:3598-1712602800-1712610000@www.chilcomptonsports.com
SUMMARY:Cricket Umpires Course
DESCRIPTION:
URL:https://www.chilcomptonsports.com/event/cricket-umpires-course/
LOCATION:Chilcompton Sports\, Chilcompton Sports\, Chilcompton\, Radstock\, BA3 4EY\, United Kingdom
CATEGORIES:Cricket Club
END:VEVENT
BEGIN:VEVENT
DTSTART;TZID=Europe/London:20240305T110000
DTEND;TZID=Europe/London:20240305T150000
DTSTAMP:20260426T021951
CREATED:20240119T155846Z
LAST-MODIFIED:20240119T155846Z
UID:3279-1709636400-1709650800@www.chilcomptonsports.com
SUMMARY:Local Help & Well Being Day
DESCRIPTION:Help On Hand \nFrom Organisations including   ………….. \nThe Village Agent\,  Bath Mind\, The Alzheimers  Society \nRICE\,(RUH) \, Care Co-ordinators (St. Chads) Companions who care and more \nAND .. Try a free Complimentary Health Taster  \nRefreshments\, Free Admission . Fully Accessible Venue. \nFor further information email: csarah150@yahoo.co.uk/07535696264 \n  \nFor further information \ncsarah150@yahoo.co.uk or call : \n 
URL:https://www.chilcomptonsports.com/event/local-help-well-being-day/
LOCATION:Chilcompton Sports\, Chilcompton Sports\, Chilcompton\, Radstock\, BA3 4EY\, United Kingdom
CATEGORIES:Public Event
END:VEVENT
BEGIN:VEVENT
DTSTART;TZID=Europe/London:20240216T183000
DTEND;TZID=Europe/London:20240216T230000
DTSTAMP:20260426T021951
CREATED:20240117T141446Z
LAST-MODIFIED:20240117T143050Z
UID:3065-1708108200-1708124400@www.chilcomptonsports.com
SUMMARY:Valentine's Quiz Night
DESCRIPTION:Valentine’s Quiz Night\nOrganised by the U9/U10 youth football coaches\, this is a very popular event and well supported by youth football members.  \n\nMax team 6 adults £5 per head \nAccompanied u12s FREE\nInterval food supplied\nRaffle \nDoors open 630pm – Quiz starts 7:30pm\n\nTo book a table please contact Ian Hawkins 07790 437953 or Adam Gould 07929 003067
URL:https://www.chilcomptonsports.com/event/valentines-quiz-night/
LOCATION:Chilcompton Sports\, Chilcompton Sports\, Chilcompton\, Radstock\, BA3 4EY\, United Kingdom
CATEGORIES:Football Event
END:VEVENT
BEGIN:VEVENT
DTSTART;TZID=Europe/London:20240209T183000
DTEND;TZID=Europe/London:20240209T230000
DTSTAMP:20260426T021951
CREATED:20240117T125818Z
LAST-MODIFIED:20240117T125818Z
UID:3062-1707503400-1707519600@www.chilcomptonsports.com
SUMMARY:Valentine's Bingo Night
DESCRIPTION:
URL:https://www.chilcomptonsports.com/event/valentines-bingo-night/
LOCATION:Chilcompton Sports\, Chilcompton Sports\, Chilcompton\, Radstock\, BA3 4EY\, United Kingdom
CATEGORIES:Club Event
END:VEVENT
BEGIN:VEVENT
DTSTART;TZID=Europe/London:20240204T190000
DTEND;TZID=Europe/London:20240204T190000
DTSTAMP:20260426T021951
CREATED:20240118T094411Z
LAST-MODIFIED:20240118T094411Z
UID:3149-1707073200-1707073200@www.chilcomptonsports.com
SUMMARY:Cricket Club AGM
DESCRIPTION:
URL:https://www.chilcomptonsports.com/event/cricket-club-agm-2/
LOCATION:Chilcompton Sports\, Chilcompton Sports\, Chilcompton\, Radstock\, BA3 4EY\, United Kingdom
CATEGORIES:Cricket Club
END:VEVENT
BEGIN:VEVENT
DTSTART;VALUE=DATE:20240202
DTEND;VALUE=DATE:20240317
DTSTAMP:20260426T021951
CREATED:20240122T182739Z
LAST-MODIFIED:20240122T182739Z
UID:3419-1706832000-1710633599@www.chilcomptonsports.com
SUMMARY:Six Nations Rugby
DESCRIPTION:3rd February – England v Italy – ko 2:15pm \n10th February – England v Wales – ko 4:45pm \n24th February – England v Scotland – ko 4:45pm \n9th March – England v Ireland – ko 4:45pm \n16th March – England v France – ko 8:00pm
URL:https://www.chilcomptonsports.com/event/six-nations-rugby/
LOCATION:Chilcompton Sports\, Chilcompton Sports\, Chilcompton\, Radstock\, BA3 4EY\, United Kingdom
CATEGORIES:Public Event
END:VEVENT
BEGIN:VEVENT
DTSTART;TZID=Europe/London:20230616T080000
DTEND;TZID=Europe/London:20230616T170000
DTSTAMP:20260426T021951
CREATED:20230217T164842Z
LAST-MODIFIED:20230217T164842Z
UID:2641-1686902400-1686934800@www.chilcomptonsports.com
SUMMARY:Horse Racing Fundraising Night
DESCRIPTION:
URL:https://www.chilcomptonsports.com/event/horse-racing-fundraising-night/
LOCATION:Chilcompton Sports\, Chilcompton Sports\, Chilcompton\, Radstock\, BA3 4EY\, United Kingdom
CATEGORIES:Cricket Club
END:VEVENT
BEGIN:VEVENT
DTSTART;VALUE=DATE:20230506
DTEND;VALUE=DATE:20230507
DTSTAMP:20260426T021951
CREATED:20230217T164947Z
LAST-MODIFIED:20230217T164947Z
UID:2639-1683331200-1683417599@www.chilcomptonsports.com
SUMMARY:Senior League Season Starts
DESCRIPTION:
URL:https://www.chilcomptonsports.com/event/senior-league-season-starts/
LOCATION:Chilcompton Sports\, Chilcompton Sports\, Chilcompton\, Radstock\, BA3 4EY\, United Kingdom
CATEGORIES:Cricket Club
END:VEVENT
BEGIN:VEVENT
DTSTART;TZID=Europe/London:20230505T180000
DTEND;TZID=Europe/London:20230505T230000
DTSTAMP:20260426T021951
CREATED:20230217T164956Z
LAST-MODIFIED:20230217T164956Z
UID:2637-1683309600-1683327600@www.chilcomptonsports.com
SUMMARY:Youth Football Presentation
DESCRIPTION:
URL:https://www.chilcomptonsports.com/event/youth-football-presentation/
LOCATION:Chilcompton Sports\, Chilcompton Sports\, Chilcompton\, Radstock\, BA3 4EY\, United Kingdom
CATEGORIES:Football Event
END:VEVENT
BEGIN:VEVENT
DTSTART;TZID=Europe/London:20230412T181500
DTEND;TZID=Europe/London:20230412T203000
DTSTAMP:20260426T021951
CREATED:20230217T164855Z
LAST-MODIFIED:20230217T164855Z
UID:2635-1681323300-1681331400@www.chilcomptonsports.com
SUMMARY:Junior Training Starts
DESCRIPTION:
URL:https://www.chilcomptonsports.com/event/junior-training-starts/
LOCATION:Chilcompton Sports\, Chilcompton Sports\, Chilcompton\, Radstock\, BA3 4EY\, United Kingdom
CATEGORIES:Cricket Club
END:VEVENT
BEGIN:VEVENT
DTSTART;TZID=Europe/London:20230404T190000
DTEND;TZID=Europe/London:20230404T210000
DTSTAMP:20260426T021951
CREATED:20230217T164908Z
LAST-MODIFIED:20230217T164908Z
UID:2633-1680634800-1680642000@www.chilcomptonsports.com
SUMMARY:Bristol & District League Umpires Course
DESCRIPTION:For local Clubs
URL:https://www.chilcomptonsports.com/event/bristol-district-league-umpires-course/
LOCATION:Chilcompton Sports\, Chilcompton Sports\, Chilcompton\, Radstock\, BA3 4EY\, United Kingdom
CATEGORIES:Cricket Club
END:VEVENT
BEGIN:VEVENT
DTSTART;TZID=Europe/London:20230330T180000
DTEND;TZID=Europe/London:20230330T200000
DTSTAMP:20260426T021951
CREATED:20230217T164919Z
LAST-MODIFIED:20230217T164919Z
UID:2631-1680199200-1680206400@www.chilcomptonsports.com
SUMMARY:Senior Nets Start
DESCRIPTION:
URL:https://www.chilcomptonsports.com/event/senior-nets-start/
LOCATION:Chilcompton Sports\, Chilcompton Sports\, Chilcompton\, Radstock\, BA3 4EY\, United Kingdom
CATEGORIES:Cricket Club
END:VEVENT
BEGIN:VEVENT
DTSTART;TZID=Europe/London:20230228T190000
DTEND;TZID=Europe/London:20230228T220000
DTSTAMP:20260426T021951
CREATED:20230217T164929Z
LAST-MODIFIED:20230217T164929Z
UID:2629-1677610800-1677621600@www.chilcomptonsports.com
SUMMARY:Bristol City v Man City
DESCRIPTION:
URL:https://www.chilcomptonsports.com/event/bristol-city-v-man-city/
CATEGORIES:Club Event
END:VEVENT
BEGIN:VEVENT
DTSTART;TZID=Europe/London:20221005T140000
DTEND;TZID=Europe/London:20221005T160000
DTSTAMP:20260426T021951
CREATED:20220427T072802Z
LAST-MODIFIED:20220427T072802Z
UID:2398-1664978400-1664985600@www.chilcomptonsports.com
SUMMARY:Wives' Club
DESCRIPTION:
URL:https://www.chilcomptonsports.com/event/wives-club-10/
END:VEVENT
BEGIN:VEVENT
DTSTART;TZID=Europe/London:20220930T190000
DTEND;TZID=Europe/London:20220930T233000
DTSTAMP:20260426T021951
CREATED:20220824T105334Z
LAST-MODIFIED:20220824T105334Z
UID:2556-1664564400-1664580600@www.chilcomptonsports.com
SUMMARY:Private Party
DESCRIPTION:
URL:https://www.chilcomptonsports.com/event/private-party/
LOCATION:Chilcompton Sports\, Chilcompton Sports\, Chilcompton\, Radstock\, BA3 4EY\, United Kingdom
CATEGORIES:Private Event
END:VEVENT
BEGIN:VEVENT
DTSTART;TZID=Europe/London:20220909T193000
DTEND;TZID=Europe/London:20220909T193000
DTSTAMP:20260426T021951
CREATED:20220609T121410Z
LAST-MODIFIED:20220609T121410Z
UID:2472-1662751800-1662751800@www.chilcomptonsports.com
SUMMARY:Cricket Club Dinner
DESCRIPTION:
URL:https://www.chilcomptonsports.com/event/cricket-club-dinner/
LOCATION:Chilcompton Sports\, Chilcompton Sports\, Chilcompton\, Radstock\, BA3 4EY\, United Kingdom
CATEGORIES:Cricket Club
END:VEVENT
BEGIN:VEVENT
DTSTART;TZID=Europe/London:20220907T140000
DTEND;TZID=Europe/London:20220907T160000
DTSTAMP:20260426T021951
CREATED:20220427T072723Z
LAST-MODIFIED:20220427T072723Z
UID:2396-1662559200-1662566400@www.chilcomptonsports.com
SUMMARY:Wives' Club
DESCRIPTION:
URL:https://www.chilcomptonsports.com/event/wives-club-9/
END:VEVENT
BEGIN:VEVENT
DTSTART;TZID=Europe/London:20220722T193000
DTEND;TZID=Europe/London:20220722T220000
DTSTAMP:20260426T021951
CREATED:20220405T152423Z
LAST-MODIFIED:20220405T152423Z
UID:2372-1658518200-1658527200@www.chilcomptonsports.com
SUMMARY:Private Event - School Leavers
DESCRIPTION:
URL:https://www.chilcomptonsports.com/event/private-event-school-leavers/
LOCATION:Chilcompton Sports\, Chilcompton Sports\, Chilcompton\, Radstock\, BA3 4EY\, United Kingdom
CATEGORIES:Private Event
END:VEVENT
BEGIN:VEVENT
DTSTART;TZID=Europe/London:20220716T180000
DTEND;TZID=Europe/London:20220716T230000
DTSTAMP:20260426T021951
CREATED:20220609T121309Z
LAST-MODIFIED:20220624T064926Z
UID:2470-1657994400-1658012400@www.chilcomptonsports.com
SUMMARY:Parker Transport Summer Party
DESCRIPTION:
URL:https://www.chilcomptonsports.com/event/parker-transport-summer-party/
LOCATION:Chilcompton Sports\, Chilcompton Sports\, Chilcompton\, Radstock\, BA3 4EY\, United Kingdom
CATEGORIES:Private Event
END:VEVENT
BEGIN:VEVENT
DTSTART;TZID=Europe/London:20220714T190000
DTEND;TZID=Europe/London:20220714T220000
DTSTAMP:20260426T021951
CREATED:20220624T065218Z
LAST-MODIFIED:20220624T065218Z
UID:2495-1657825200-1657836000@www.chilcomptonsports.com
SUMMARY:Athletics End of Season Awards
DESCRIPTION:
URL:https://www.chilcomptonsports.com/event/athletics-end-of-season-awards/
LOCATION:Chilcompton Sports\, Chilcompton Sports\, Chilcompton\, Radstock\, BA3 4EY\, United Kingdom
CATEGORIES:Athletics Club
END:VEVENT
BEGIN:VEVENT
DTSTART;TZID=Europe/London:20220706T140000
DTEND;TZID=Europe/London:20220706T160000
DTSTAMP:20260426T021951
CREATED:20220427T072649Z
LAST-MODIFIED:20220427T072649Z
UID:2394-1657116000-1657123200@www.chilcomptonsports.com
SUMMARY:Wives' Club
DESCRIPTION:
URL:https://www.chilcomptonsports.com/event/wives-club-8/
END:VEVENT
BEGIN:VEVENT
DTSTART;TZID=Europe/London:20220616T093000
DTEND;TZID=Europe/London:20220616T120000
DTSTAMP:20260426T021951
CREATED:20220525T155118Z
LAST-MODIFIED:20220525T155118Z
UID:2454-1655371800-1655380800@www.chilcomptonsports.com
SUMMARY:St Vigor & St John Sports Day
DESCRIPTION:
URL:https://www.chilcomptonsports.com/event/st-vigor-st-john-sports-day/
LOCATION:Chilcompton Sports\, Chilcompton Sports\, Chilcompton\, Radstock\, BA3 4EY\, United Kingdom
CATEGORIES:Private Event
END:VEVENT
BEGIN:VEVENT
DTSTART;TZID=Europe/London:20220610T180000
DTEND;TZID=Europe/London:20220610T200000
DTSTAMP:20260426T021951
CREATED:20220405T152247Z
LAST-MODIFIED:20220405T152247Z
UID:2370-1654884000-1654891200@www.chilcomptonsports.com
SUMMARY:Youth Football - Registration Evening
DESCRIPTION:
URL:https://www.chilcomptonsports.com/event/youth-football-registration-evening/
LOCATION:Chilcompton Sports\, Chilcompton Sports\, Chilcompton\, Radstock\, BA3 4EY\, United Kingdom
CATEGORIES:Football Event
END:VEVENT
BEGIN:VEVENT
DTSTART;TZID=Europe/London:20220605T113000
DTEND;TZID=Europe/London:20220605T173000
DTSTAMP:20260426T021951
CREATED:20220405T152652Z
LAST-MODIFIED:20220405T152652Z
UID:2374-1654428600-1654450200@www.chilcomptonsports.com
SUMMARY:Private Event - Christening
DESCRIPTION:
URL:https://www.chilcomptonsports.com/event/private-event-christening/
LOCATION:Chilcompton Sports\, Chilcompton Sports\, Chilcompton\, Radstock\, BA3 4EY\, United Kingdom
CATEGORIES:Private Event
END:VEVENT
BEGIN:VEVENT
DTSTART;TZID=Europe/London:20220601T140000
DTEND;TZID=Europe/London:20220601T160000
DTSTAMP:20260426T021951
CREATED:20220427T072604Z
LAST-MODIFIED:20220427T072604Z
UID:2392-1654092000-1654099200@www.chilcomptonsports.com
SUMMARY:Wives' Club
DESCRIPTION:
URL:https://www.chilcomptonsports.com/event/wives-club-7/
END:VEVENT
BEGIN:VEVENT
DTSTART;TZID=Europe/London:20220516T191500
DTEND;TZID=Europe/London:20220516T211500
DTSTAMP:20260426T021951
CREATED:20220408T103728Z
LAST-MODIFIED:20220408T103728Z
UID:2378-1652728500-1652735700@www.chilcomptonsports.com
SUMMARY:Hockey Club AGM
DESCRIPTION:
URL:https://www.chilcomptonsports.com/event/hockey-club-agm/
LOCATION:Chilcompton Sports\, Chilcompton Sports\, Chilcompton\, Radstock\, BA3 4EY\, United Kingdom
CATEGORIES:Hockey Club
END:VEVENT
BEGIN:VEVENT
DTSTART;TZID=Europe/London:20220513T140000
DTEND;TZID=Europe/London:20220513T190000
DTSTAMP:20260426T021951
CREATED:20220414T130430Z
LAST-MODIFIED:20220414T130430Z
UID:2385-1652450400-1652468400@www.chilcomptonsports.com
SUMMARY:Northavon Recruitment
DESCRIPTION:
URL:https://www.chilcomptonsports.com/event/northavon-recruitment/
LOCATION:Chilcompton Sports\, Chilcompton Sports\, Chilcompton\, Radstock\, BA3 4EY\, United Kingdom
CATEGORIES:Private Event
END:VEVENT
BEGIN:VEVENT
DTSTART;TZID=Europe/London:20220508T110000
DTEND;TZID=Europe/London:20220508T170000
DTSTAMP:20260426T021951
CREATED:20220405T152759Z
LAST-MODIFIED:20220405T152759Z
UID:2376-1652007600-1652029200@www.chilcomptonsports.com
SUMMARY:Private Event - Christening
DESCRIPTION:
URL:https://www.chilcomptonsports.com/event/private-event-christening-2/
LOCATION:Chilcompton Sports\, Chilcompton Sports\, Chilcompton\, Radstock\, BA3 4EY\, United Kingdom
CATEGORIES:Private Event
END:VEVENT
BEGIN:VEVENT
DTSTART;TZID=Europe/London:20220506T180000
DTEND;TZID=Europe/London:20220506T230000
DTSTAMP:20260426T021951
CREATED:20220405T152135Z
LAST-MODIFIED:20220405T152135Z
UID:2368-1651860000-1651878000@www.chilcomptonsports.com
SUMMARY:Youth Presentation
DESCRIPTION:
URL:https://www.chilcomptonsports.com/event/youth-presentation/
LOCATION:Chilcompton Sports\, Chilcompton Sports\, Chilcompton\, Radstock\, BA3 4EY\, United Kingdom
CATEGORIES:Football Event
END:VEVENT
BEGIN:VEVENT
DTSTART;TZID=Europe/London:20220504T140000
DTEND;TZID=Europe/London:20220504T160000
DTSTAMP:20260426T021951
CREATED:20220304T072237Z
LAST-MODIFIED:20220304T072237Z
UID:2355-1651672800-1651680000@www.chilcomptonsports.com
SUMMARY:Wives Club
DESCRIPTION:
URL:https://www.chilcomptonsports.com/event/wives-club-4/
END:VEVENT
END:VCALENDAR