BEGIN:VCALENDAR
VERSION:2.0
PRODID:-//Chilcompton Sports - ECPv6.15.20//NONSGML v1.0//EN
CALSCALE:GREGORIAN
METHOD:PUBLISH
X-WR-CALNAME:Chilcompton Sports
X-ORIGINAL-URL:https://www.chilcomptonsports.com
X-WR-CALDESC:Events for Chilcompton Sports
REFRESH-INTERVAL;VALUE=DURATION:PT1H
X-Robots-Tag:noindex
X-PUBLISHED-TTL:PT1H
BEGIN:VTIMEZONE
TZID:Europe/London
BEGIN:DAYLIGHT
TZOFFSETFROM:+0000
TZOFFSETTO:+0100
TZNAME:BST
DTSTART:20240331T010000
END:DAYLIGHT
BEGIN:STANDARD
TZOFFSETFROM:+0100
TZOFFSETTO:+0000
TZNAME:GMT
DTSTART:20241027T010000
END:STANDARD
BEGIN:DAYLIGHT
TZOFFSETFROM:+0000
TZOFFSETTO:+0100
TZNAME:BST
DTSTART:20250330T010000
END:DAYLIGHT
BEGIN:STANDARD
TZOFFSETFROM:+0100
TZOFFSETTO:+0000
TZNAME:GMT
DTSTART:20251026T010000
END:STANDARD
BEGIN:DAYLIGHT
TZOFFSETFROM:+0000
TZOFFSETTO:+0100
TZNAME:BST
DTSTART:20260329T010000
END:DAYLIGHT
BEGIN:STANDARD
TZOFFSETFROM:+0100
TZOFFSETTO:+0000
TZNAME:GMT
DTSTART:20261025T010000
END:STANDARD
END:VTIMEZONE
BEGIN:VEVENT
DTSTART;TZID=Europe/London:20251201T150000
DTEND;TZID=Europe/London:20251201T210000
DTSTAMP:20260426T021201
CREATED:20251027T183337Z
LAST-MODIFIED:20251027T183337Z
UID:5019-1764601200-1764622800@www.chilcomptonsports.com
SUMMARY:Somerset FA Roadshow
DESCRIPTION:
URL:https://www.chilcomptonsports.com/event/somerset-fa-roadshow/
LOCATION:Chilcompton Sports\, Chilcompton Sports\, Chilcompton\, Radstock\, BA3 4EY\, United Kingdom
CATEGORIES:Football Event,Public Event
END:VEVENT
BEGIN:VEVENT
DTSTART;TZID=Europe/London:20251206T190000
DTEND;TZID=Europe/London:20251206T230000
DTSTAMP:20260426T021201
CREATED:20251029T163114Z
LAST-MODIFIED:20251029T163114Z
UID:5023-1765047600-1765062000@www.chilcomptonsports.com
SUMMARY:Adult Quiz Night
DESCRIPTION:
URL:https://www.chilcomptonsports.com/event/adult-quiz-night/
LOCATION:Chilcompton Sports\, Chilcompton Sports\, Chilcompton\, Radstock\, BA3 4EY\, United Kingdom
CATEGORIES:Football Event
END:VEVENT
BEGIN:VEVENT
DTSTART;TZID=Europe/London:20251216T120000
DTEND;TZID=Europe/London:20251216T170000
DTSTAMP:20260426T021201
CREATED:20250528T092312Z
LAST-MODIFIED:20250528T092312Z
UID:4437-1765886400-1765904400@www.chilcomptonsports.com
SUMMARY:Walking Football Christmas Lunch
DESCRIPTION:
URL:https://www.chilcomptonsports.com/event/walking-football-christmas-lunch/
END:VEVENT
BEGIN:VEVENT
DTSTART;TZID=Europe/London:20251217T140000
DTEND;TZID=Europe/London:20251217T160000
DTSTAMP:20260426T021201
CREATED:20251118T182030Z
LAST-MODIFIED:20251118T182030Z
UID:5039-1765980000-1765987200@www.chilcomptonsports.com
SUMMARY:Wives Club
DESCRIPTION:
URL:https://www.chilcomptonsports.com/event/wives-club-26/
LOCATION:Chilcompton Sports\, Chilcompton Sports\, Chilcompton\, Radstock\, BA3 4EY\, United Kingdom
CATEGORIES:Private Event
END:VEVENT
END:VCALENDAR