BEGIN:VCALENDAR
VERSION:2.0
PRODID:-//Chilcompton Sports - ECPv6.15.20//NONSGML v1.0//EN
CALSCALE:GREGORIAN
METHOD:PUBLISH
X-ORIGINAL-URL:https://www.chilcomptonsports.com
X-WR-CALDESC:Events for Chilcompton Sports
REFRESH-INTERVAL;VALUE=DURATION:PT1H
X-Robots-Tag:noindex
X-PUBLISHED-TTL:PT1H
BEGIN:VTIMEZONE
TZID:Europe/London
BEGIN:DAYLIGHT
TZOFFSETFROM:+0000
TZOFFSETTO:+0100
TZNAME:BST
DTSTART:20250330T010000
END:DAYLIGHT
BEGIN:STANDARD
TZOFFSETFROM:+0100
TZOFFSETTO:+0000
TZNAME:GMT
DTSTART:20251026T010000
END:STANDARD
BEGIN:DAYLIGHT
TZOFFSETFROM:+0000
TZOFFSETTO:+0100
TZNAME:BST
DTSTART:20260329T010000
END:DAYLIGHT
BEGIN:STANDARD
TZOFFSETFROM:+0100
TZOFFSETTO:+0000
TZNAME:GMT
DTSTART:20261025T010000
END:STANDARD
BEGIN:DAYLIGHT
TZOFFSETFROM:+0000
TZOFFSETTO:+0100
TZNAME:BST
DTSTART:20270328T010000
END:DAYLIGHT
BEGIN:STANDARD
TZOFFSETFROM:+0100
TZOFFSETTO:+0000
TZNAME:GMT
DTSTART:20271031T010000
END:STANDARD
END:VTIMEZONE
BEGIN:VEVENT
DTSTART;TZID=Europe/London:20260508T170000
DTEND;TZID=Europe/London:20260508T230000
DTSTAMP:20260425T205659
CREATED:20251029T163302Z
LAST-MODIFIED:20251029T163302Z
UID:5025-1778259600-1778281200@www.chilcomptonsports.com
SUMMARY:Foundation Stage Football Presentation
DESCRIPTION:
URL:https://www.chilcomptonsports.com/event/foundation-stage-football-presentation/
CATEGORIES:Football Event
END:VEVENT
BEGIN:VEVENT
DTSTART;TZID=Europe/London:20260509T150000
DTEND;TZID=Europe/London:20260509T230000
DTSTAMP:20260425T205659
CREATED:20251029T163349Z
LAST-MODIFIED:20251029T163349Z
UID:5027-1778338800-1778367600@www.chilcomptonsports.com
SUMMARY:Youth/Adult Football Presentation
DESCRIPTION:
URL:https://www.chilcomptonsports.com/event/youth-adult-football-presentation/
CATEGORIES:Football Event
END:VEVENT
BEGIN:VEVENT
DTSTART;TZID=Europe/London:20260517T120000
DTEND;TZID=Europe/London:20260517T150000
DTSTAMP:20260425T205659
CREATED:20260318T182811Z
LAST-MODIFIED:20260318T182811Z
UID:5195-1779019200-1779030000@www.chilcomptonsports.com
SUMMARY:Walking Football Tournament
DESCRIPTION:
URL:https://www.chilcomptonsports.com/event/walking-football-tournament/
CATEGORIES:Football Event
END:VEVENT
END:VCALENDAR