BEGIN:VCALENDAR
VERSION:2.0
PRODID:-//Chilcompton Sports - ECPv6.15.20//NONSGML v1.0//EN
CALSCALE:GREGORIAN
METHOD:PUBLISH
X-WR-CALNAME:Chilcompton Sports
X-ORIGINAL-URL:https://www.chilcomptonsports.com
X-WR-CALDESC:Events for Chilcompton Sports
REFRESH-INTERVAL;VALUE=DURATION:PT1H
X-Robots-Tag:noindex
X-PUBLISHED-TTL:PT1H
BEGIN:VTIMEZONE
TZID:Europe/London
BEGIN:DAYLIGHT
TZOFFSETFROM:+0000
TZOFFSETTO:+0100
TZNAME:BST
DTSTART:20250330T010000
END:DAYLIGHT
BEGIN:STANDARD
TZOFFSETFROM:+0100
TZOFFSETTO:+0000
TZNAME:GMT
DTSTART:20251026T010000
END:STANDARD
BEGIN:DAYLIGHT
TZOFFSETFROM:+0000
TZOFFSETTO:+0100
TZNAME:BST
DTSTART:20260329T010000
END:DAYLIGHT
BEGIN:STANDARD
TZOFFSETFROM:+0100
TZOFFSETTO:+0000
TZNAME:GMT
DTSTART:20261025T010000
END:STANDARD
BEGIN:DAYLIGHT
TZOFFSETFROM:+0000
TZOFFSETTO:+0100
TZNAME:BST
DTSTART:20270328T010000
END:DAYLIGHT
BEGIN:STANDARD
TZOFFSETFROM:+0100
TZOFFSETTO:+0000
TZNAME:GMT
DTSTART:20271031T010000
END:STANDARD
END:VTIMEZONE
BEGIN:VEVENT
DTSTART;TZID=Europe/London:20260606T090000
DTEND;TZID=Europe/London:20260606T170000
DTSTAMP:20260425T223546
CREATED:20260207T125220Z
LAST-MODIFIED:20260207T125220Z
UID:5160-1780736400-1780765200@www.chilcomptonsports.com
SUMMARY:Chilcompton Art Club Annual Open Day
DESCRIPTION:
URL:https://www.chilcomptonsports.com/event/chilcompton-art-club-annual-open-day/
END:VEVENT
BEGIN:VEVENT
DTSTART;TZID=Europe/London:20260608T190000
DTEND;TZID=Europe/London:20260608T213000
DTSTAMP:20260425T223546
CREATED:20260218T140834Z
LAST-MODIFIED:20260218T140834Z
UID:5165-1780945200-1780954200@www.chilcomptonsports.com
SUMMARY:MSNYFL AGM
DESCRIPTION:
URL:https://www.chilcomptonsports.com/event/msnyfl-agm/
END:VEVENT
BEGIN:VEVENT
DTSTART;TZID=Europe/London:20260611T180000
DTEND;TZID=Europe/London:20260611T220000
DTSTAMP:20260425T223546
CREATED:20251029T163503Z
LAST-MODIFIED:20260420T191158Z
UID:5029-1781200800-1781215200@www.chilcomptonsports.com
SUMMARY:Youth Football Registration Evening
DESCRIPTION:
URL:https://www.chilcomptonsports.com/event/youth-football-registration-evening-2/
CATEGORIES:Football Event,Private Event
END:VEVENT
BEGIN:VEVENT
DTSTART;TZID=Europe/London:20260618T200000
DTEND;TZID=Europe/London:20260618T220000
DTSTAMP:20260425T223546
CREATED:20251029T164222Z
LAST-MODIFIED:20251029T164236Z
UID:5031-1781812800-1781820000@www.chilcomptonsports.com
SUMMARY:Football Club AGM
DESCRIPTION:
URL:https://www.chilcomptonsports.com/event/football-club-agm/
CATEGORIES:Football Event
END:VEVENT
END:VCALENDAR